BEGIN:VCALENDAR
VERSION:2.0
PRODID:-//PYVOBJECT//NONSGML Version 1//EN
BEGIN:VEVENT
UID:21058:2006
DTSTART:20140127T000000
DTEND:20140630T000000
DESCRIPTION:
DTSTAMP:20260422T154851Z
SUMMARY:Die besten BB Burger in Steyr: BIG BANG BURGER
END:VEVENT
END:VCALENDAR
